BEGIN:VCALENDAR
VERSION:2.0
PRODID:-//Lanterna Indonesia - ECPv6.1.2.2//NONSGML v1.0//EN
CALSCALE:GREGORIAN
METHOD:PUBLISH
X-WR-CALNAME:Lanterna Indonesia
X-ORIGINAL-URL:https://lanterna.or.id
X-WR-CALDESC:Events for Lanterna Indonesia
REFRESH-INTERVAL;VALUE=DURATION:PT1H
X-Robots-Tag:noindex
X-PUBLISHED-TTL:PT1H
BEGIN:VTIMEZONE
TZID:UTC
BEGIN:STANDARD
TZOFFSETFROM:+0000
TZOFFSETTO:+0000
TZNAME:UTC
DTSTART:20170101T000000
END:STANDARD
END:VTIMEZONE
BEGIN:VEVENT
DTSTART;VALUE=DATE:20170204
DTEND;VALUE=DATE:20170206
DTSTAMP:20260421T121240
CREATED:20161113T004449Z
LAST-MODIFIED:20161119T082907Z
UID:300-1486166400-1486339199@lanterna.or.id
SUMMARY:Workshop Keperawatan Neonatus "Perawatan Komprehensif pada Neonatus Kasus Bedah"
DESCRIPTION:Daftar sekarang! \n[formget formcode=’oOFi-196948/i’ autoresize=’true’ height=’856′ tab=’tabbed’ tabtext=’Registrasi Workshop’ position=’bottom’ bgcolor=’17B86F’]
URL:https://lanterna.or.id/kegiatan/workshop-keperawatan-neonatus-perawatan-komprehensif-pada-neonatus-kasus-bedah/
LOCATION:Harris Hotel & Convention Ciumbuleuit\, Jalan Ciumbuleuit 50-58\, Bandung\, Jawa Barat\, 40141\, Indonesia
ORGANIZER;CN="Lanterna%20Indonesia":MAILTO:lanterna.organize@gmail.com
END:VEVENT
END:VCALENDAR