BEGIN:VCALENDAR
VERSION:2.0
PRODID:-//Lanterna Indonesia - ECPv6.1.2.2//NONSGML v1.0//EN
CALSCALE:GREGORIAN
METHOD:PUBLISH
X-ORIGINAL-URL:https://lanterna.or.id
X-WR-CALDESC:Events for Lanterna Indonesia
REFRESH-INTERVAL;VALUE=DURATION:PT1H
X-Robots-Tag:noindex
X-PUBLISHED-TTL:PT1H
BEGIN:VTIMEZONE
TZID:Asia/Jakarta
BEGIN:STANDARD
TZOFFSETFROM:+0700
TZOFFSETTO:+0700
TZNAME:WIB
DTSTART:20170101T000000
END:STANDARD
END:VTIMEZONE
BEGIN:VEVENT
DTSTART;VALUE=DATE:20170916
DTEND;VALUE=DATE:20170918
DTSTAMP:20260421T025033
CREATED:20170428T173152Z
LAST-MODIFIED:20180730T005048Z
UID:341-1505520000-1505692799@lanterna.or.id
SUMMARY:Workshop Keperawatan Neonatus "Perawatan Komprehensif pada Neonatus Kasus Bedah" Sesi-2
DESCRIPTION:Daftar sekarang! \n 
URL:https://lanterna.or.id/kegiatan/workshop-keperawatan-neonatus-perawatan-komprehensif-pada-neonatus-kasus-bedah-sesi-2/
LOCATION:Prime Park Hotel\, Jl. PHH Mustofa No. 45/47\, Bandung\, Jawa Barat\, 40124\, Indonesia
ORGANIZER;CN="Lanterna%20Indonesia":MAILTO:lanterna.organize@gmail.com
END:VEVENT
END:VCALENDAR