BEGIN:VCALENDAR
VERSION:2.0
PRODID:-//Lanterna Indonesia - ECPv6.1.2.2//NONSGML v1.0//EN
CALSCALE:GREGORIAN
METHOD:PUBLISH
X-WR-CALNAME:Lanterna Indonesia
X-ORIGINAL-URL:https://lanterna.or.id
X-WR-CALDESC:Events for Lanterna Indonesia
REFRESH-INTERVAL;VALUE=DURATION:PT1H
X-Robots-Tag:noindex
X-PUBLISHED-TTL:PT1H
BEGIN:VTIMEZONE
TZID:Asia/Jakarta
BEGIN:STANDARD
TZOFFSETFROM:+0700
TZOFFSETTO:+0700
TZNAME:WIB
DTSTART:20170101T000000
END:STANDARD
END:VTIMEZONE
BEGIN:VEVENT
DTSTART;VALUE=DATE:20170401
DTEND;VALUE=DATE:20170403
DTSTAMP:20260421T102920
CREATED:20170428T174811Z
LAST-MODIFIED:20220525T103847Z
UID:345-1491004800-1491177599@lanterna.or.id
SUMMARY:Workshop Stabilisasi dan Transportasi Pasca Resusitasi Pada Neonatus
DESCRIPTION:
URL:https://lanterna.or.id/kegiatan/workshop-stabilisasi-dan-transportasi-pasca-resusitasi-pada-neonatus/
LOCATION:Prime Park Hotel\, Jl. PHH Mustofa No. 45/47\, Bandung\, Jawa Barat\, 40124\, Indonesia
ORGANIZER;CN="Lanterna%20Indonesia":MAILTO:lanterna.organize@gmail.com
END:VEVENT
END:VCALENDAR