BEGIN:VCALENDAR
VERSION:2.0
PRODID:-//Lanterna Indonesia - ECPv6.1.2.2//NONSGML v1.0//EN
CALSCALE:GREGORIAN
METHOD:PUBLISH
X-WR-CALNAME:Lanterna Indonesia
X-ORIGINAL-URL:https://lanterna.or.id
X-WR-CALDESC:Events for Lanterna Indonesia
REFRESH-INTERVAL;VALUE=DURATION:PT1H
X-Robots-Tag:noindex
X-PUBLISHED-TTL:PT1H
BEGIN:VTIMEZONE
TZID:UTC
BEGIN:STANDARD
TZOFFSETFROM:+0000
TZOFFSETTO:+0000
TZNAME:UTC
DTSTART:20170101T000000
END:STANDARD
END:VTIMEZONE
BEGIN:VEVENT
DTSTART;VALUE=DATE:20170317
DTEND;VALUE=DATE:20170320
DTSTAMP:20260421T121144
CREATED:20170209T013855Z
LAST-MODIFIED:20170209T014536Z
UID:330-1489708800-1489967999@lanterna.or.id
SUMMARY:Symphonic 2017 - Symposium and Workshop Neonatal Intensive Care
DESCRIPTION:  \nBooklet lengkap kegiatan Symponic 2017 dapat di download melalui link berikut: \nDownload
URL:https://lanterna.or.id/kegiatan/symphonic-2017-symposium-and-workshop-neonatal-intensive-care/
LOCATION:Trans Luxury Hotel\, Bandung\, Jl. Gatot Subroto No. 289\, Bandung\, Jawa Barat\, 40273\, Indonesia
ORGANIZER;CN="IDAI":MAILTO:symphonicbandung@gmail.com
END:VEVENT
END:VCALENDAR