BEGIN:VCALENDAR
VERSION:2.0
PRODID:-//Lanterna Indonesia - ECPv6.1.2.2//NONSGML v1.0//EN
CALSCALE:GREGORIAN
METHOD:PUBLISH
X-ORIGINAL-URL:https://lanterna.or.id
X-WR-CALDESC:Events for Lanterna Indonesia
REFRESH-INTERVAL;VALUE=DURATION:PT1H
X-Robots-Tag:noindex
X-PUBLISHED-TTL:PT1H
BEGIN:VTIMEZONE
TZID:UTC
BEGIN:STANDARD
TZOFFSETFROM:+0000
TZOFFSETTO:+0000
TZNAME:UTC
DTSTART:20160101T000000
END:STANDARD
END:VTIMEZONE
BEGIN:VEVENT
DTSTART;VALUE=DATE:20161105
DTEND;VALUE=DATE:20161107
DTSTAMP:20260421T182453
CREATED:20161113T003631Z
LAST-MODIFIED:20161113T003631Z
UID:294-1478304000-1478476799@lanterna.or.id
SUMMARY:Seminar & Workshop "Perawatan Bayi Sakit Kritis" Sesi-2
DESCRIPTION:
URL:https://lanterna.or.id/kegiatan/seminar-workshop-perawatan-bayi-sakit-kritis-sesi-2/
LOCATION:Prime Park Hotel\, Jl. PHH Mustofa No. 45/47\, Bandung\, Jawa Barat\, 40124\, Indonesia
ORGANIZER;CN="Lanterna%20Indonesia":MAILTO:lanterna.organize@gmail.com
END:VEVENT
END:VCALENDAR