BEGIN:VCALENDAR
VERSION:2.0
PRODID:-//Lanterna Indonesia - ECPv6.1.2.2//NONSGML v1.0//EN
CALSCALE:GREGORIAN
METHOD:PUBLISH
X-WR-CALNAME:Lanterna Indonesia
X-ORIGINAL-URL:https://lanterna.or.id
X-WR-CALDESC:Events for Lanterna Indonesia
REFRESH-INTERVAL;VALUE=DURATION:PT1H
X-Robots-Tag:noindex
X-PUBLISHED-TTL:PT1H
BEGIN:VTIMEZONE
TZID:UTC
BEGIN:STANDARD
TZOFFSETFROM:+0000
TZOFFSETTO:+0000
TZNAME:UTC
DTSTART:20160101T000000
END:STANDARD
END:VTIMEZONE
BEGIN:VEVENT
DTSTART;VALUE=DATE:20160910
DTEND;VALUE=DATE:20160912
DTSTAMP:20260421T212717
CREATED:20161016T035410Z
LAST-MODIFIED:20161016T035532Z
UID:245-1473465600-1473638399@lanterna.or.id
SUMMARY:Seminar & Workshop "Perawatan Bayi Sakit Kritis"
DESCRIPTION:
URL:https://lanterna.or.id/kegiatan/perawatan-bayi-sakit-kritis/
LOCATION:Harris Hotel & Convention Ciumbuleuit\, Jalan Ciumbuleuit 50-58\, Bandung\, Jawa Barat\, 40141\, Indonesia
ORGANIZER;CN="Lanterna%20Indonesia":MAILTO:lanterna.organize@gmail.com
END:VEVENT
END:VCALENDAR